BEGIN:VCALENDAR
VERSION:2.0
PRODID:-//Kentucky Career Center - Lincoln Trail - ECPv6.15.20//NONSGML v1.0//EN
CALSCALE:GREGORIAN
METHOD:PUBLISH
X-WR-CALNAME:Kentucky Career Center - Lincoln Trail
X-ORIGINAL-URL:https://ltcareercenter.org
X-WR-CALDESC:Events for Kentucky Career Center - Lincoln Trail
REFRESH-INTERVAL;VALUE=DURATION:PT1H
X-Robots-Tag:noindex
X-PUBLISHED-TTL:PT1H
BEGIN:VTIMEZONE
TZID:America/Kentucky/Louisville
BEGIN:DAYLIGHT
TZOFFSETFROM:-0500
TZOFFSETTO:-0400
TZNAME:EDT
DTSTART:20250309T070000
END:DAYLIGHT
BEGIN:STANDARD
TZOFFSETFROM:-0400
TZOFFSETTO:-0500
TZNAME:EST
DTSTART:20251102T060000
END:STANDARD
BEGIN:DAYLIGHT
TZOFFSETFROM:-0500
TZOFFSETTO:-0400
TZNAME:EDT
DTSTART:20260308T070000
END:DAYLIGHT
BEGIN:STANDARD
TZOFFSETFROM:-0400
TZOFFSETTO:-0500
TZNAME:EST
DTSTART:20261101T060000
END:STANDARD
BEGIN:DAYLIGHT
TZOFFSETFROM:-0500
TZOFFSETTO:-0400
TZNAME:EDT
DTSTART:20270314T070000
END:DAYLIGHT
BEGIN:STANDARD
TZOFFSETFROM:-0400
TZOFFSETTO:-0500
TZNAME:EST
DTSTART:20271107T060000
END:STANDARD
END:VTIMEZONE
BEGIN:VEVENT
DTSTART;TZID=America/Kentucky/Louisville:20260505T130000
DTEND;TZID=America/Kentucky/Louisville:20260505T153000
DTSTAMP:20260420T072812
CREATED:20260416T213007Z
LAST-MODIFIED:20260416T213007Z
UID:6701-1777986000-1777995000@ltcareercenter.org
SUMMARY:Online Job Fair- May 5
DESCRIPTION:Kentucky Career Center-Lincoln Trail is hosting an online job fair -  if you're looking for a job\, let's talk! Multiple jobs are open in a variety of industries. The job fair will take place from 1 - 3:30 p.m. Registration is required for all job seekers. Please be prepared to upload a pdf of your resume. If you need help with your resume\, contact us!\nREGISTER \n \n  \nHave questions about how to participate? This video will help!
URL:https://ltcareercenter.org/event/online-job-fair-may-5/
END:VEVENT
BEGIN:VEVENT
DTSTART;TZID=America/Kentucky/Louisville:20260519T130000
DTEND;TZID=America/Kentucky/Louisville:20260519T153000
DTSTAMP:20260420T072812
CREATED:20260416T213123Z
LAST-MODIFIED:20260416T213123Z
UID:6704-1779195600-1779204600@ltcareercenter.org
SUMMARY:Online Job Fair- May 19
DESCRIPTION:Kentucky Career Center-Lincoln Trail is hosting an online job fair -  if you're looking for a job\, let's talk! Multiple jobs are open in a variety of industries. The job fair will take place from 1 - 3:30 p.m. Registration is required for all job seekers. Please be prepared to upload a pdf of your resume. If you need help with your resume\, contact us!\nREGISTER \n \n  \nHave questions about how to participate? This video will help!
URL:https://ltcareercenter.org/event/online-job-fair-may-19/
END:VEVENT
BEGIN:VEVENT
DTSTART;TZID=America/Kentucky/Louisville:20260520T090000
DTEND;TZID=America/Kentucky/Louisville:20260520T100000
DTSTAMP:20260420T072812
CREATED:20260217T133038Z
LAST-MODIFIED:20260217T133038Z
UID:6541-1779267600-1779271200@ltcareercenter.org
SUMMARY:LTWDB Executive Committee
DESCRIPTION:All meetings are held at the Lincoln Trail Area Development District Office – 750 South Provident Way\, Elizabethtown\, KY with an option to attend virtually.
URL:https://ltcareercenter.org/event/ltwdb-executive-committee-4/
END:VEVENT
END:VCALENDAR